BEGIN:VCALENDAR
VERSION:2.0
PRODID:-//wp-events-plugin.com//7.1.7//EN
TZID:Europe/Paris
X-WR-TIMEZONE:Europe/Paris
BEGIN:VEVENT
UID:1136@emploi-mno.fr
DTSTART;TZID=Europe/Paris:20260129T153000
DTEND;TZID=Europe/Paris:20260129T173000
DTSTAMP:20260126T140105Z
URL:https://emploi-mno.fr/events/atelier-peinture/
SUMMARY:Atelier Peinture
DESCRIPTION:La Santé Mentale a été désignée Grande Cause Nationale en 
 2025.\n\nDans ce cadre \, Zoé\, Armando\, Kelly et Houliati ont décidé 
 d'agir et vous proposent un atelier "Peinture" en lien avec la thématique
  de la santé mentale\, du bien être et des émotions...\n\nAtelier de Pe
 inture libre...\n\n&nbsp\;\nATTENTION LES INSCRIPTIONS SONT RESERVEES AUX 
 PERSONNES DU TERRITOIRE MNO  (16 – 25 ANS)\n\nNUMERO UNIQUE POUR SE DES
 INSCRIRE (48 HEURES AVANT L’ATELIER) / EXCUSER UNE ABSENCE JUSTIFIEE: 06
 .68.16.92.53
CATEGORIES:Atelier Extérieur
LOCATION:Bus Magique\, Avenue Cuvier\, LILLE\, 59800\, France
X-APPLE-STRUCTURED-LOCATION;VALUE=URI;X-ADDRESS=Avenue Cuvier\, LILLE\, 598
 00\, France;X-APPLE-RADIUS=100;X-TITLE=Bus Magique:geo:0,0
END:VEVENT
BEGIN:VTIMEZONE
TZID:Europe/Paris
X-LIC-LOCATION:Europe/Paris
BEGIN:STANDARD
DTSTART:20251026T020000
TZOFFSETFROM:+0200
TZOFFSETTO:+0100
TZNAME:CET
END:STANDARD
END:VTIMEZONE
END:VCALENDAR