BEGIN:VCALENDAR
VERSION:2.0
PRODID:-//wp-events-plugin.com//7.1.7//EN
TZID:Europe/Paris
X-WR-TIMEZONE:Europe/Paris
BEGIN:VEVENT
UID:214@emploi-mno.fr
DTSTART;TZID=Europe/Paris:20241128T140000
DTEND;TZID=Europe/Paris:20241128T163000
DTSTAMP:20241029T135045Z
URL:https://emploi-mno.fr/events/casse-ton-cliche-cycle-dateliers-vie-affe
 ctive-et-sexuelle/
SUMMARY:Casse ton cliché! : Cycle d'ateliers Vie Affective et Sexuelle
DESCRIPTION:Affiche casse ton cliché cycle 1 - CopieATTENTION LES INSCRIPT
 IONS SONT RÉSERVÉES AUX PERSONNES DU TERRITOIRE MNO (16 – 25 ANS)\n&nb
 sp\;\n\nCe cycle d'ateliers implique votre présence à chacun des temps s
 uivants:\n\n 	Jeudi 28 Novembre à 14 heures\, à l'antenne de la Mission 
 locale de Marcq-en-Baroeul: Présentation du cycle d'ateliers / Echanges s
 ur l'égalité de genre\n\n&nbsp\;\n\n 	Mercredi 4 Décembre à 14 heures\
 , au Planning familial de Marcq-en-Baroeul: Le choix de la contraception /
  IST - VIH\n\n&nbsp\;\n\n 	Jeudi 5 Décembre à 9h30\, à la Mission Local
 e de Lambersart: Les discriminations liées au genre\, à l'orientation se
 xuelle\n\n&nbsp\;\n\n 	Vendredi 6 Décembre à 9h30\, à la Mission Locale
  de Lambersart: Création d'une affiche ou d'un support de communication\n
 \n&nbsp\;
ATTACH;FMTTYPE=image/jpeg:https://emploi-mno.fr/wp-content/uploads/2024/10
 /Affiche-casse-ton-cliche-2.jpg
CATEGORIES:Atelier Marcq
LOCATION:Mission Locale Antenne de Marcq-en-Barœul\, 111 avenue Foch\, Mar
 cq-en-Barœul\, France
X-APPLE-STRUCTURED-LOCATION;VALUE=URI;X-ADDRESS=111 avenue Foch\, Marcq-en-
 Barœul\, France;X-APPLE-RADIUS=100;X-TITLE=Mission Locale Antenne de Marc
 q-en-Barœul:geo:0,0
END:VEVENT
BEGIN:VTIMEZONE
TZID:Europe/Paris
X-LIC-LOCATION:Europe/Paris
BEGIN:STANDARD
DTSTART:20241027T020000
TZOFFSETFROM:+0200
TZOFFSETTO:+0100
TZNAME:CET
END:STANDARD
END:VTIMEZONE
END:VCALENDAR