BEGIN:VCALENDAR
VERSION:2.0
PRODID:-//wp-events-plugin.com//7.1.7//EN
TZID:Europe/Paris
X-WR-TIMEZONE:Europe/Paris
BEGIN:VEVENT
UID:122@emploi-mno.fr
DTSTART;TZID=Europe/Paris:20241002T181500
DTEND;TZID=Europe/Paris:20241002T203000
DTSTAMP:20240930T140206Z
URL:https://emploi-mno.fr/events/cine-concert-robocop/
SUMMARY:COMPLET CINÉ-CONCERT ROBOCOP
DESCRIPTION:ATTENTION LES INSCRIPTIONS SONT RESERVEES AUX PERSONNES DU TERR
 ITOIRE MNO (16 – 25 ANS)\n&nbsp\;\n\n\nÀ Détroit\, gangrené par le cr
 ime organisé\, l'officier de police James Murphy est laissé pour mort ap
 rès une fusillade. Il devient alors le parfait cobaye pour la création d
 'une nouvelle arme\, un policier hybride mi-homme\, mi-robot\n\nRoboCop\, 
 Paul Verhoeven (1987\, 102’\, VOSTFR)\n\n\n\n\n\n\n\n\n\nConservant l’
 intégrité du film et l’intégralité des dialogues\, FRAGMENTS (Benjam
 in Le Baron -claviers\, machines\, Tom Beaudouin - guitare\, synthés et A
 ntoine Gandon - batterie\, machines) élaborent une fascinante et créativ
 e réinvention de la bande-son\, autour d’orchestrations électroniques\
 , de rythmes robotiques et de textures sonores synthétiques. S’appuyant
  sur les résonances politiques de cette dystopie satirique avec les préo
 ccupations sécuritaires et technologiques de nos sociétés actuelles\, c
 e nouveau ciné-concert nous emporte dans une véritable expérience esth
 étique et sensorielle\, une ré-interprétation musicale qui s’affranch
 it l’ultra-violence et des codes symphoniques pour donner à voir et en
 tendre une autre vision du film.\n\n\n\n\n\nAvec Peter Weller\, Nancy Alle
 n\n\nPar le trio de musique Fragments En partenariat avec l’association 
 étudiante de cinéma le « Kino-Ciné »\n\n\n\n\n\n\n\n
CATEGORIES:Atelier Extérieur
LOCATION:Kino - Campus Pont de bois\, Campus Pont de bois\, Villeneuve d'As
 cq\, 59655\, France
X-APPLE-STRUCTURED-LOCATION;VALUE=URI;X-ADDRESS=Campus Pont de bois\, Ville
 neuve d'Ascq\, 59655\, France;X-APPLE-RADIUS=100;X-TITLE=Kino - Campus Pon
 t de bois:geo:0,0
END:VEVENT
BEGIN:VTIMEZONE
TZID:Europe/Paris
X-LIC-LOCATION:Europe/Paris
BEGIN:DAYLIGHT
DTSTART:20240331T030000
TZOFFSETFROM:+0100
TZOFFSETTO:+0200
TZNAME:CEST
END:DAYLIGHT
END:VTIMEZONE
END:VCALENDAR