BEGIN:VCALENDAR
VERSION:2.0
PRODID:-//wp-events-plugin.com//7.1.7//EN
TZID:Europe/Paris
X-WR-TIMEZONE:Europe/Paris
BEGIN:VEVENT
UID:1197@emploi-mno.fr
DTSTART;TZID=Europe/Paris:20260408T140000
DTEND;TZID=Europe/Paris:20260408T160000
DTSTAMP:20260401T075358Z
URL:https://emploi-mno.fr/events/citoyennete-benevolat-pourquoi-pas-3/
SUMMARY:COMPLET CITOYENNETE: Bénévolat? Pourquoi pas ?
DESCRIPTION:ATTENTION LES INSCRIPTIONS SONT RESERVEES AUX PERSONNES DU TERR
 ITOIRE MNO \n\nNUMERO UNIQUE POUR SE DESINSCRIRE (48 HEURES AVANT L’ATE
 LIER) / EXCUSER UNE ABSENCE JUSTIFIEE: 06.68.16.92.53\n&nbsp\;\n\nTu te po
 ses des questions sur le bénévolat? Cet atelier est fait pour toi!\n\n&n
 bsp\;\n\n&nbsp\;\n\nVenez les rejoindre!
CATEGORIES:Atelier Marcq
LOCATION:Mission Locale Antenne de Marcq-en-Barœul\, 111 avenue Foch\, Mar
 cq-en-Barœul\, France
X-APPLE-STRUCTURED-LOCATION;VALUE=URI;X-ADDRESS=111 avenue Foch\, Marcq-en-
 Barœul\, France;X-APPLE-RADIUS=100;X-TITLE=Mission Locale Antenne de Marc
 q-en-Barœul:geo:0,0
END:VEVENT
BEGIN:VTIMEZONE
TZID:Europe/Paris
X-LIC-LOCATION:Europe/Paris
BEGIN:DAYLIGHT
DTSTART:20260329T030000
TZOFFSETFROM:+0100
TZOFFSETTO:+0200
TZNAME:CEST
END:DAYLIGHT
END:VTIMEZONE
END:VCALENDAR