BEGIN:VCALENDAR
VERSION:2.0
PRODID:-//wp-events-plugin.com//7.1.7//EN
TZID:Europe/Paris
X-WR-TIMEZONE:Europe/Paris
BEGIN:VEVENT
UID:1193@emploi-mno.fr
DTSTART;TZID=Europe/Paris:20260609T100000
DTEND;TZID=Europe/Paris:20260609T120000
DTSTAMP:20260304T150059Z
URL:https://emploi-mno.fr/events/citoyennete-lutter-contre-le-sexisme-par-
 l-association-prisma-3/
SUMMARY:CITOYENNETE : Lutter contre le sexisme\, par l' Association PRISMA
DESCRIPTION:ATTENTION LES INSCRIPTIONS SONT RESERVEES AUX PERSONNES DU TERR
 ITOIRE MNO (16 – 25 ans)\n\nNUMERO UNIQUE POUR SE DESINSCRIRE (48 HEURES
  AVANT L’ATELIER) / EXCUSER UNE ABSENCE JUSTIFIEE: 06.68.16.92.53\nL'Ass
 ociation PRISMA a pour but de lutter contre le sexisme\, les LGBTphobies e
 t les stéréotypes de genre\, elle intervient auprès d'un public jeune p
 our permettre de voir les orientations sexuelles et le genre sous un angle
  dénué de préjugés.\n\nQue l'on soit concerné.e.s ou non cet atelier 
 de sensibilisation permet d'apporter des pistes de réflexion sur ce sujet
  et de comprendre comment se manifestent les discriminations dans la vie d
 e tous les jours.\n\n&nbsp\;
CATEGORIES:Atelier Marcq
LOCATION:Mission Locale Antenne de Marcq-en-Barœul\, 111 avenue Foch\, Mar
 cq-en-Barœul\, France
X-APPLE-STRUCTURED-LOCATION;VALUE=URI;X-ADDRESS=111 avenue Foch\, Marcq-en-
 Barœul\, France;X-APPLE-RADIUS=100;X-TITLE=Mission Locale Antenne de Marc
 q-en-Barœul:geo:0,0
END:VEVENT
BEGIN:VTIMEZONE
TZID:Europe/Paris
X-LIC-LOCATION:Europe/Paris
BEGIN:DAYLIGHT
DTSTART:20260329T030000
TZOFFSETFROM:+0100
TZOFFSETTO:+0200
TZNAME:CEST
END:DAYLIGHT
END:VTIMEZONE
END:VCALENDAR