BEGIN:VCALENDAR
VERSION:2.0
PRODID:-//wp-events-plugin.com//7.1.7//EN
TZID:Europe/Paris
X-WR-TIMEZONE:Europe/Paris
BEGIN:VEVENT
UID:1160@emploi-mno.fr
DTSTART;TZID=Europe/Paris:20260309T143000
DTEND;TZID=Europe/Paris:20260309T163000
DTSTAMP:20260303T102307Z
URL:https://emploi-mno.fr/events/citoyennete-rencontres-intergenerationnel
 les-2/
SUMMARY:CITOYENNETE : Rencontres Intergénérationnelles
DESCRIPTION:ATTENTION LES INSCRIPTIONS SONT RESERVEES AUX PERSONNES DU TERR
 ITOIRE MNO (16 – 25 ans)\n\nNUMERO UNIQUE POUR SE DESINSCRIRE (48 HEURES
  AVANT L’ATELIER) / EXCUSER UNE ABSENCE JUSTIFIEE: 06.68.16.92.53\nVenez
  à la rencontre des résidents de l'EHPAD Paul Cordonnier pour un moment 
 convivial autour de discussions et de jeux de société.\n\nPartagez des i
 nstants chaleureux de rires et d'échanges avec nos aînés ! Une belle oc
 casion de créer du lien entre les générations.
CATEGORIES:Atelier Extérieur
LOCATION:Résidence Paul Cordonnier\, 4 rue Maurice Genevoix\, Marcq-en-Bar
 œul\, 59\, 59700\, Nord\, France
X-APPLE-STRUCTURED-LOCATION;VALUE=URI;X-ADDRESS=4 rue Maurice Genevoix\, Ma
 rcq-en-Barœul\, 59\, 59700\, Nord\, France;X-APPLE-RADIUS=100;X-TITLE=Ré
 sidence Paul Cordonnier:geo:0,0
END:VEVENT
BEGIN:VTIMEZONE
TZID:Europe/Paris
X-LIC-LOCATION:Europe/Paris
BEGIN:STANDARD
DTSTART:20251026T020000
TZOFFSETFROM:+0200
TZOFFSETTO:+0100
TZNAME:CET
END:STANDARD
END:VTIMEZONE
END:VCALENDAR