BEGIN:VCALENDAR
VERSION:2.0
PRODID:-//wp-events-plugin.com//7.1.7//EN
TZID:Europe/Paris
X-WR-TIMEZONE:Europe/Paris
BEGIN:VEVENT
UID:757@emploi-mno.fr
DTSTART;TZID=Europe/Paris:20251016T140000
DTEND;TZID=Europe/Paris:20251016T170000
DTSTAMP:20250804T074235Z
URL:https://emploi-mno.fr/events/decroche-ton-job-ou-ta-formation-commerce
 -et-logistique/
SUMMARY:Décroche ton job ou ta formation - Commerce et Logistique
DESCRIPTION:Informations\, formations et postes à pourvoir.\n\nVenez renco
 ntrer des professionnels de différents secteurs : des formateurs\, des re
 cruteurs...\n\nInfos &amp\; inscription obligatoire :\n03.28.36.24.62
ATTACH;FMTTYPE=image/jpeg:https://emploi-mno.fr/wp-content/uploads/2025/08
 /decroche-ton-job_16.10.2025.jpg
CATEGORIES:Evénement
LOCATION:Maison de l'Emploi Métropole Nord-Ouest\, 48 avenue du Parc\, Lam
 bersart\, 59130\, France
X-APPLE-STRUCTURED-LOCATION;VALUE=URI;X-ADDRESS=48 avenue du Parc\, Lambers
 art\, 59130\, France;X-APPLE-RADIUS=100;X-TITLE=Maison de l'Emploi Métrop
 ole Nord-Ouest:geo:0,0
END:VEVENT
BEGIN:VTIMEZONE
TZID:Europe/Paris
X-LIC-LOCATION:Europe/Paris
BEGIN:DAYLIGHT
DTSTART:20250330T030000
TZOFFSETFROM:+0100
TZOFFSETTO:+0200
TZNAME:CEST
END:DAYLIGHT
END:VTIMEZONE
END:VCALENDAR