BEGIN:VCALENDAR
VERSION:2.0
PRODID:-//wp-events-plugin.com//7.1.7//EN
TZID:Europe/Paris
X-WR-TIMEZONE:Europe/Paris
BEGIN:VEVENT
UID:217@emploi-mno.fr
DTSTART;TZID=Europe/Paris:20241113T140000
DTEND;TZID=Europe/Paris:20241113T160000
DTSTAMP:20241106T160045Z
URL:https://emploi-mno.fr/events/depistage-gratuit-des-maladies-de-la-vue/
SUMMARY:COMPLET Dépistage gratuit des maladies de la vue
DESCRIPTION:\n\n&nbsp\;\n\nATTENTION LES INSCRIPTIONS SONT RESERVEES AUX PE
 RSONNES DU TERRITOIRE MNO (16 – 25 ANS)\n\nLe Bus de l’Unadev (Union N
 ationale des aveugles et déficients visuels) propose au grand public un d
 épistage des maladies cécitantes gratuit\, rapide (moins de 10 minutes) 
 et indolore. Il est composé d’un espace accueil\, d’une salle d’att
 ente et d’un cabinet ophtalmologique.\n\nCes maladies touchent les perso
 nnes de tout âge\, même les plus jeunes : venez vous faire dépister !
CATEGORIES:Atelier Extérieur
LOCATION:Bus UNADEV\, Place François Mitterrand\, LILLE\, 59000\, France
X-APPLE-STRUCTURED-LOCATION;VALUE=URI;X-ADDRESS=Place François Mitterrand\
 , LILLE\, 59000\, France;X-APPLE-RADIUS=100;X-TITLE=Bus UNADEV:geo:0,0
END:VEVENT
BEGIN:VTIMEZONE
TZID:Europe/Paris
X-LIC-LOCATION:Europe/Paris
BEGIN:STANDARD
DTSTART:20241027T020000
TZOFFSETFROM:+0200
TZOFFSETTO:+0100
TZNAME:CET
END:STANDARD
END:VTIMEZONE
END:VCALENDAR