BEGIN:VCALENDAR
VERSION:2.0
PRODID:-//wp-events-plugin.com//7.1.7//EN
TZID:Europe/Paris
X-WR-TIMEZONE:Europe/Paris
BEGIN:VEVENT
UID:466@emploi-mno.fr
DTSTART;TZID=Europe/Paris:20250320T140000
DTEND;TZID=Europe/Paris:20250320T163000
DTSTAMP:20250319T085515Z
URL:https://emploi-mno.fr/events/dynameet-presentation/
SUMMARY:DYNAMEET: Présentation
DESCRIPTION:ATTENTION LES INSCRIPTIONS SONT RESERVEES AUX PERSONNES DU TERR
 ITOIRE MNO (16 – 25 ans)\n&nbsp\;\n\n&nbsp\;\n\nL'équipe de l'atelier d
 e préformation de Marquette vient vous présenter l'action "DYNAMEET": Un
 e équipe à votre écoute et qui s'adapte à votre rythme pour que vous p
 uissiez:\n\n 	Etre accompagné(e) dans vos démarches\,\n 	Découvrir des 
 métiers et choisir celui qui vous convient\,\n 	Accéder à une formation
  qualifiante\, à des contrats en alternance et à l'emploi\,\n 	Prendre c
 onfiance en vous et développer votre potentiel\n\n&nbsp\;
CATEGORIES:Atelier Marcq
LOCATION:Mission Locale Antenne de Marcq-en-Barœul\, 111 avenue Foch\, Mar
 cq-en-Barœul\, France
X-APPLE-STRUCTURED-LOCATION;VALUE=URI;X-ADDRESS=111 avenue Foch\, Marcq-en-
 Barœul\, France;X-APPLE-RADIUS=100;X-TITLE=Mission Locale Antenne de Marc
 q-en-Barœul:geo:0,0
END:VEVENT
BEGIN:VTIMEZONE
TZID:Europe/Paris
X-LIC-LOCATION:Europe/Paris
BEGIN:STANDARD
DTSTART:20241027T020000
TZOFFSETFROM:+0200
TZOFFSETTO:+0100
TZNAME:CET
END:STANDARD
END:VTIMEZONE
END:VCALENDAR