BEGIN:VCALENDAR
VERSION:2.0
PRODID:-//wp-events-plugin.com//7.1.7//EN
TZID:Europe/Paris
X-WR-TIMEZONE:Europe/Paris
BEGIN:VEVENT
UID:940@emploi-mno.fr
DTSTART;TZID=Europe/Paris:20251209T140000
DTEND;TZID=Europe/Paris:20251209T163000
DTSTAMP:20251117T095126Z
URL:https://emploi-mno.fr/events/emploi-decouverte-de-loffre-de-services-a
 pec/
SUMMARY:EMPLOI : Découverte de l'offre de services APEC
DESCRIPTION:ATTENTION LES INSCRIPTIONS SONT RESERVEES AUX PERSONNES DU TERR
 ITOIRE MNO (16 – 25 ANS)\n\nNUMERO UNIQUE POUR SE DESINSCRIRE (48 HEURES
  AVANT L’ATELIER) / EXCUSER UNE ABSENCE JUSTIFIEE: 06.68.16.92.53\n&nbsp
 \;\n\n🎓 Tu es diplômé·e à partir de bac+3 et en recherche d’un em
 ploi\, d’un stage ou d’un contrat en alternance ?\n\n&nbsp\;\n\n\n\n&n
 bsp\;\n\nL'Association Pour l'Emploi des Cadres (APEC) a pour mission d'ac
 compagner les cadres et jeunes diplômés du supérieur dans leur recherch
 e d'emploi et leur évolution de carrière.\n\nParticipe à la réunion d'
 information dans leurs locaux et découvre l'ensemble des services propos
 és par l'APEC !\n\n&nbsp\;\n\nL'inscription à cet atelier se fait exclus
 ivement par l'intermédiaire de votre conseiller.ère.\n\n&nbsp\;
CATEGORIES:Atelier Extérieur
LOCATION:APEC\, 11 Parvis de Rotterdam\, Lille\, 59000\, France
X-APPLE-STRUCTURED-LOCATION;VALUE=URI;X-ADDRESS=11 Parvis de Rotterdam\, Li
 lle\, 59000\, France;X-APPLE-RADIUS=100;X-TITLE=APEC:geo:0,0
END:VEVENT
BEGIN:VTIMEZONE
TZID:Europe/Paris
X-LIC-LOCATION:Europe/Paris
BEGIN:STANDARD
DTSTART:20251026T020000
TZOFFSETFROM:+0200
TZOFFSETTO:+0100
TZNAME:CET
END:STANDARD
END:VTIMEZONE
END:VCALENDAR