BEGIN:VCALENDAR
VERSION:2.0
PRODID:-//wp-events-plugin.com//7.1.7//EN
TZID:Europe/Paris
X-WR-TIMEZONE:Europe/Paris
BEGIN:VEVENT
UID:1090@emploi-mno.fr
DTSTART;TZID=Europe/Paris:20260115T140000
DTEND;TZID=Europe/Paris:20260115T160000
DTSTAMP:20260106T124228Z
URL:https://emploi-mno.fr/events/emploi-forum-un-emploi-en-nord-assifep/
SUMMARY:EMPLOI: Forum Un emploi en Nord - ASSIFEP
DESCRIPTION:ATTENTION LES INSCRIPTIONS SONT RESERVEES AUX PERSONNES DU TERR
 ITOIRE MNO (16 – 25 ANS)\n\nNUMERO UNIQUE POUR SE DESINSCRIRE (48 HEURES
  AVANT L’ATELIER) / EXCUSER UNE ABSENCE JUSTIFIEE: 06.68.16.92.53\n&nbsp
 \;\n\n75 entreprises partenaires de l'ASSIFEP seront présentes pour prés
 enter leurs offres d’emploi dans les domaines :  BTP\, transport\, log
 istique\, tertiaire\, industrie\, médical et santé\, transition énergé
 tique\, informatique\, aide à la personne et nettoyage.\n\nDe nombreux at
 eliers sans inscription\, parmi lesquels :\n\n 	Simulateur de conduite tra
 nsport\n 	Simulateur de conduite de chariot élévateur\n 	Atelier BTP\n 	
 Casques de réalité virtuelle\n 	Atelier gestion de l’image professionn
 elle\n 	Déblocage des freins psychologiques et gestion du stress\n 	Jobib
 ox\n 	Création de CV avec l’intelligence artificielle\n\n&nbsp\;
CATEGORIES:Atelier Extérieur
LOCATION:Decathlon Arena\, Stade Pierre Mauroy\, 261 bd de Tournai\,  Ville
 neuve-d’Ascq  \, 59650\, France
X-APPLE-STRUCTURED-LOCATION;VALUE=URI;X-ADDRESS=261 bd de Tournai\,  Villen
 euve-d’Ascq  \, 59650\, France;X-APPLE-RADIUS=100;X-TITLE=Decathlon Aren
 a\, Stade Pierre Mauroy:geo:0,0
END:VEVENT
BEGIN:VTIMEZONE
TZID:Europe/Paris
X-LIC-LOCATION:Europe/Paris
BEGIN:STANDARD
DTSTART:20251026T020000
TZOFFSETFROM:+0200
TZOFFSETTO:+0100
TZNAME:CET
END:STANDARD
END:VTIMEZONE
END:VCALENDAR