BEGIN:VCALENDAR
VERSION:2.0
PRODID:-//wp-events-plugin.com//7.1.7//EN
TZID:Europe/Paris
X-WR-TIMEZONE:Europe/Paris
BEGIN:VEVENT
UID:1070@emploi-mno.fr
DTSTART;TZID=Europe/Paris:20260116T140000
DTEND;TZID=Europe/Paris:20260116T160000
DTSTAMP:20251212T143759Z
URL:https://emploi-mno.fr/events/emploi-presentation-inscription-action-et
 incelle/
SUMMARY:EMPLOI : Présentation / Inscription Action ETINCELLE
DESCRIPTION:ATTENTION LES INSCRIPTIONS SONT RESERVEES AUX PERSONNES DU TERR
 ITOIRE MNO (16 – 25 ANS)\n\nNUMERO UNIQUE POUR SE DESINSCRIRE (48 HEURES
  AVANT L’ATELIER) / EXCUSER UNE ABSENCE JUSTIFIEE: 06.68.16.92.53\n&nbsp
 \;\n\n&nbsp\;\n\nL'action ETINCELLE dure 6\,5 jours au cœur de l’entrep
 rise LESAFFRE\, animés par un binôme de coachs/formateurs pour:\n\n- Dé
 couvrir et mettre en valeur les centres d’intérêt / passions pour rall
 umer l’étincelle !\n\n- Immersion en entreprise : Découverte des codes
  de l’entreprise - Réalité du terrain - Échanges riches avec les prof
 essionnels\n\n- Réseautage : Se mettre en mouvement - Activer son réseau
  - Booster ses opportunités de stages\, immersion ou embauche.\n\n&nbsp\;
CATEGORIES:Atelier Marcq
LOCATION:Mission Locale Antenne de Marcq-en-Barœul\, 111 avenue Foch\, Mar
 cq-en-Barœul\, France
X-APPLE-STRUCTURED-LOCATION;VALUE=URI;X-ADDRESS=111 avenue Foch\, Marcq-en-
 Barœul\, France;X-APPLE-RADIUS=100;X-TITLE=Mission Locale Antenne de Marc
 q-en-Barœul:geo:0,0
END:VEVENT
BEGIN:VTIMEZONE
TZID:Europe/Paris
X-LIC-LOCATION:Europe/Paris
BEGIN:STANDARD
DTSTART:20251026T020000
TZOFFSETFROM:+0200
TZOFFSETTO:+0100
TZNAME:CET
END:STANDARD
END:VTIMEZONE
END:VCALENDAR