BEGIN:VCALENDAR
VERSION:2.0
PRODID:-//wp-events-plugin.com//7.1.7//EN
TZID:Europe/Paris
X-WR-TIMEZONE:Europe/Paris
BEGIN:VEVENT
UID:985@emploi-mno.fr
DTSTART;TZID=Europe/Paris:20260113T100000
DTEND;TZID=Europe/Paris:20260113T120000
DTSTAMP:20251124T085311Z
URL:https://emploi-mno.fr/events/emploi-rencontre-avec-un-professionnel-co
 nseils-echanges-et-preparation-a-lemploi/
SUMMARY:EMPLOI : Rencontre avec un professionnel : Conseils\, échanges et 
 préparation à l'emploi.
DESCRIPTION:ATTENTION LES INSCRIPTIONS SONT RESERVEES AUX PERSONNES DU TERR
 ITOIRE MNO (16 - 25 ans)\n&nbsp\;\nNUMERO UNIQUE POUR SE DESINSCRIRE (48 H
 EURES AVANT L’ATELIER) / EXCUSER UNE ABSENCE JUSTIFIEE: 06.68.16.92.53\n
 Participez à une rencontre avec le gérant du Golf Park Inesis et profite
 z d'un moment d'échange privilégié pour obtenir des conseils pratiques 
 en matière de préparation à l'emploi !\n\n&nbsp\;\n\n&nbsp\;
CATEGORIES:Atelier Marcq
LOCATION:Mission Locale Antenne de Marcq-en-Barœul\, 111 avenue Foch\, Mar
 cq-en-Barœul\, France
X-APPLE-STRUCTURED-LOCATION;VALUE=URI;X-ADDRESS=111 avenue Foch\, Marcq-en-
 Barœul\, France;X-APPLE-RADIUS=100;X-TITLE=Mission Locale Antenne de Marc
 q-en-Barœul:geo:0,0
END:VEVENT
BEGIN:VTIMEZONE
TZID:Europe/Paris
X-LIC-LOCATION:Europe/Paris
BEGIN:STANDARD
DTSTART:20251026T020000
TZOFFSETFROM:+0200
TZOFFSETTO:+0100
TZNAME:CET
END:STANDARD
END:VTIMEZONE
END:VCALENDAR