BEGIN:VCALENDAR
VERSION:2.0
PRODID:-//wp-events-plugin.com//7.1.7//EN
TZID:Europe/Paris
X-WR-TIMEZONE:Europe/Paris
BEGIN:VEVENT
UID:1143@emploi-mno.fr
DTSTART;TZID=Europe/Paris:20260325T141500
DTEND;TZID=Europe/Paris:20260325T161500
DTSTAMP:20260324T100424Z
URL:https://emploi-mno.fr/events/emploi-salon-jeunes-davenirs/
SUMMARY:EMPLOI: Salon Jeunes d'Avenirs
DESCRIPTION:ATTENTION LES INSCRIPTIONS SONT RESERVEES AUX PERSONNES DU TERR
 ITOIRE MNO\n\nNUMERO UNIQUE POUR SE DESINSCRIRE (48 HEURES AVANT L’ATELI
 ER) / EXCUSER UNE ABSENCE JUSTIFIEE: 06.68.16.92.53\nEmploi • Alternanc
 e • Formation • Conseils\n\n\nJeunes d’Avenirs organise des salons
  en présentiel dans 4 régions\, à destination des jeunes de 16 à 30 an
 s à la recherche d’une formation d’un emploi ou tout simplement de co
 nseils ! Sur leur site internet\, vous retrouverez la liste des principa
 ux exposants.\n\n&nbsp\;\n\nNous nous donnerons rendez-vous sur place à 1
 3h45.
CATEGORIES:Atelier Extérieur
LOCATION:Decathlon Arena\, Stade Pierre Mauroy\, 261 bd de Tournai\,  Ville
 neuve-d’Ascq  \, 59650\, France
X-APPLE-STRUCTURED-LOCATION;VALUE=URI;X-ADDRESS=261 bd de Tournai\,  Villen
 euve-d’Ascq  \, 59650\, France;X-APPLE-RADIUS=100;X-TITLE=Decathlon Aren
 a\, Stade Pierre Mauroy:geo:0,0
END:VEVENT
BEGIN:VTIMEZONE
TZID:Europe/Paris
X-LIC-LOCATION:Europe/Paris
BEGIN:STANDARD
DTSTART:20251026T020000
TZOFFSETFROM:+0200
TZOFFSETTO:+0100
TZNAME:CET
END:STANDARD
END:VTIMEZONE
END:VCALENDAR