BEGIN:VCALENDAR
VERSION:2.0
PRODID:-//wp-events-plugin.com//7.1.7//EN
TZID:Europe/Paris
X-WR-TIMEZONE:Europe/Paris
BEGIN:VEVENT
UID:1265@emploi-mno.fr
DTSTART;TZID=Europe/Paris:20260528T100000
DTEND;TZID=Europe/Paris:20260528T120000
DTSTAMP:20260326T102744Z
URL:https://emploi-mno.fr/events/emploi-travailler-en-belgique-anime-par-k
 onvert-3/
SUMMARY:EMPLOI: Travailler en Belgique\, animé par Konvert
DESCRIPTION:ATTENTION LES INSCRIPTIONS SONT RESERVEES AUX PERSONNES DU TERR
 ITOIRE MNO \n\nNUMERO UNIQUE POUR SE DESINSCRIRE (48 HEURES AVANT L’ATE
 LIER) / EXCUSER UNE ABSENCE JUSTIFIEE: 06.68.16.92.53\n&nbsp\;\n\nKonvert 
 France\, un élément essentiel du Groupe Konvert\, s'engage à aider les 
 résidents français dans leur recherche d'emploi en Belgique.\n\nEn tant 
 qu'entreprise familiale avec plus de 60 ans d'expérience spécialisée da
 ns le secteur du recrutement\,  l'humain est placé au centre de nos pré
 occupations\, appréciant vos qualités bien au-delà d'un simple CV. Notr
 e approche personnalisée est au cœur de notre engagement.\n\nNotre équi
 pe de professionnels dévoués est à votre écoute pour trouver le poste 
 idéal. Nous sommes impatients de vous aider à naviguer dans le monde des
  opportunités d'emploi en Belgique.\n\n&nbsp\;\n\nUn intérêt\, un attra
 it pour le travail transfrontalier? Viens vite rencontrer l'équipe de Kon
 vert! A l'issue de la présentation\, tu pourras t'inscrire directement su
 r les différentes agences transfrontalières. Prends ton CV!\n\nMerci de 
 te munir également de ta carte d'identité ou passeport ainsi qu'un RIB e
 n cas d'inscription.
CATEGORIES:Atelier Marcq
LOCATION:Mission Locale Antenne de Marcq-en-Barœul\, 111 avenue Foch\, Mar
 cq-en-Barœul\, France
X-APPLE-STRUCTURED-LOCATION;VALUE=URI;X-ADDRESS=111 avenue Foch\, Marcq-en-
 Barœul\, France;X-APPLE-RADIUS=100;X-TITLE=Mission Locale Antenne de Marc
 q-en-Barœul:geo:0,0
END:VEVENT
BEGIN:VTIMEZONE
TZID:Europe/Paris
X-LIC-LOCATION:Europe/Paris
BEGIN:DAYLIGHT
DTSTART:20260329T030000
TZOFFSETFROM:+0100
TZOFFSETTO:+0200
TZNAME:CEST
END:DAYLIGHT
END:VTIMEZONE
END:VCALENDAR