BEGIN:VCALENDAR
VERSION:2.0
PRODID:-//wp-events-plugin.com//7.1.7//EN
TZID:Europe/Paris
X-WR-TIMEZONE:Europe/Paris
BEGIN:VEVENT
UID:1258@emploi-mno.fr
DTSTART;TZID=Europe/Paris:20260410T090000
DTEND;TZID=Europe/Paris:20260410T120000
DTSTAMP:20260325T163254Z
URL:https://emploi-mno.fr/events/emploi-vivez-les-metiers-de-lhotellerie-r
 estauration-en-realite-virtuelle/
SUMMARY:EMPLOI : Vivez les métiers de l'hôtellerie-restauration en réali
 té virtuelle !
DESCRIPTION:ATTENTION LES INSCRIPTIONS SONT RESERVEES AUX PERSONNES DU TERR
 ITOIRE MNO \n\nNUMERO UNIQUE POUR SE DESINSCRIRE (48 HEURES AVANT L’ATE
 LIER) / EXCUSER UNE ABSENCE JUSTIFIEE: 06.68.16.92.53\n&nbsp\;\n\nEt si vo
 us pouviez enfiler une toque de cuisinier\, accueillir des clients à la r
 éception d'un hôtel ou servir en salle… sans quitter votre chaise ? Fr
 ance Travail vous invite à une expérience unique et 100 % immersive pour
  découvrir les métiers de l'hôtellerie et de la restauration grâce aux
  casques de réalité virtuelle (VR) !\n\n&nbsp\;\n\n🥽 Au programme :\n
 \n✅ Vivez les métiers de l'intérieur grâce aux casques VR\n\n✅ Éch
 angez avec des conseillers France Travail sur les opportunités d'emploi e
 t de formation\n\n✅ Découvrez des parcours accessibles à tous\, même 
 sans expérience\n\n✅ Repartez avec des pistes concrètes pour votre pro
 jet professionnel 🍽️ Les métiers à découvrir : 👨‍🍳 Cuisini
 er • Serveur • Barman 🛎️ Réceptionniste • Employé d'étage 
 • Chef de rang ... et bien d'autres !
CATEGORIES:Atelier Extérieur
LOCATION:France Travail La Madeleine\, 38 allée Vauban\, La Madeleine\, 59
 110\, France
X-APPLE-STRUCTURED-LOCATION;VALUE=URI;X-ADDRESS=38 allée Vauban\, La Madel
 eine\, 59110\, France;X-APPLE-RADIUS=100;X-TITLE=France Travail La Madelei
 ne:geo:0,0
END:VEVENT
BEGIN:VTIMEZONE
TZID:Europe/Paris
X-LIC-LOCATION:Europe/Paris
BEGIN:DAYLIGHT
DTSTART:20260329T030000
TZOFFSETFROM:+0100
TZOFFSETTO:+0200
TZNAME:CEST
END:DAYLIGHT
END:VTIMEZONE
END:VCALENDAR