BEGIN:VCALENDAR
VERSION:2.0
PRODID:-//wp-events-plugin.com//7.1.7//EN
TZID:Europe/Paris
X-WR-TIMEZONE:Europe/Paris
BEGIN:VEVENT
UID:996@emploi-mno.fr
DTSTART;TZID=Europe/Paris:20260209T093000
DTEND;TZID=Europe/Paris:20260209T113000
DTSTAMP:20251126T104046Z
URL:https://emploi-mno.fr/events/formation-laho-formation-commerce-tertiai
 re-administratif-outils-informatiques-et-anglais/
SUMMARY:FORMATION : LAHO Formation (commerce\, tertiaire administratif\, ou
 tils informatiques et anglais)
DESCRIPTION:ATTENTION LES INSCRIPTIONS SONT RESERVEES AUX PERSONNES DU TERR
 ITOIRE MNO (16 – 25 ans)\n\nNUMERO UNIQUE POUR SE DESINSCRIRE (48 HEURES
  AVANT L’ATELIER) / EXCUSER UNE ABSENCE JUSTIFIEE: 06.68.16.92.53\n\n\n\
 n 	LAHO Formation\, école de la Chambre de Commerce et d’Industrie\, qu
 i propose des formations dans les domaines commerce\, tertiaire administra
 tif\, outils informatiques et anglais.\n 	Le dispositif SFER Région\, ave
 c des implantations à Lille et Roubaix\, destiné à accompagner les publ
 ics vers des formations qualifiantes et certifiantes.\n
CATEGORIES:Atelier Marcq
LOCATION:Mission Locale Antenne de Marcq-en-Barœul\, 111 avenue Foch\, Mar
 cq-en-Barœul\, France
X-APPLE-STRUCTURED-LOCATION;VALUE=URI;X-ADDRESS=111 avenue Foch\, Marcq-en-
 Barœul\, France;X-APPLE-RADIUS=100;X-TITLE=Mission Locale Antenne de Marc
 q-en-Barœul:geo:0,0
END:VEVENT
BEGIN:VTIMEZONE
TZID:Europe/Paris
X-LIC-LOCATION:Europe/Paris
BEGIN:STANDARD
DTSTART:20251026T020000
TZOFFSETFROM:+0200
TZOFFSETTO:+0100
TZNAME:CET
END:STANDARD
END:VTIMEZONE
END:VCALENDAR