BEGIN:VCALENDAR
VERSION:2.0
PRODID:-//wp-events-plugin.com//7.1.7//EN
TZID:Europe/Paris
X-WR-TIMEZONE:Europe/Paris
BEGIN:VEVENT
UID:1066@emploi-mno.fr
DTSTART;TZID=Europe/Paris:20260319T140000
DTEND;TZID=Europe/Paris:20260319T160000
DTSTAMP:20251210T122836Z
URL:https://emploi-mno.fr/events/formation-presentation-de-la-f-p-i/
SUMMARY:FORMATION: Présentation de l'A.F.P.I.
DESCRIPTION:ATTENTION LES INSCRIPTIONS SONT RESERVEES AUX PERSONNES DU TERR
 ITOIRE MNO (16 – 25 ans)\n\nNUMERO UNIQUE POUR SE DESINSCRIRE (48 HEURES
  AVANT L’ATELIER) / EXCUSER UNE ABSENCE JUSTIFIEE: 06.68.16.92.53\n&nbsp
 \;\n\nViens découvrir sur place les formations AFPI sur l'industrie et le
 s métiers du tertiaire.
CATEGORIES:Atelier Marcq
LOCATION:Mission Locale Antenne de Marcq-en-Barœul\, 111 avenue Foch\, Mar
 cq-en-Barœul\, France
X-APPLE-STRUCTURED-LOCATION;VALUE=URI;X-ADDRESS=111 avenue Foch\, Marcq-en-
 Barœul\, France;X-APPLE-RADIUS=100;X-TITLE=Mission Locale Antenne de Marc
 q-en-Barœul:geo:0,0
END:VEVENT
BEGIN:VTIMEZONE
TZID:Europe/Paris
X-LIC-LOCATION:Europe/Paris
BEGIN:STANDARD
DTSTART:20251026T020000
TZOFFSETFROM:+0200
TZOFFSETTO:+0100
TZNAME:CET
END:STANDARD
END:VTIMEZONE
END:VCALENDAR