BEGIN:VCALENDAR
VERSION:2.0
PRODID:-//wp-events-plugin.com//7.1.7//EN
TZID:Europe/Paris
X-WR-TIMEZONE:Europe/Paris
BEGIN:VEVENT
UID:660@emploi-mno.fr
DTSTART;TZID=Europe/Paris;VALUE=DATE:20250915
DTEND;TZID=Europe/Paris;VALUE=DATE:20250917
DTSTAMP:20250911T112636Z
URL:https://emploi-mno.fr/events/formation-sur-la-gestion-de-projet-la-sol
 idarite-et-le-developpement-durable-le-partenariat-centre-gaia/
SUMMARY:Formation sur la gestion de projet\, la solidarité et le développ
 ement durable  - Le partenariat - Centre Gaia
DESCRIPTION:ATTENTION LES INSCRIPTIONS SONT RESERVEES AUX PERSONNES DU TERR
 ITOIRE MNO (16 – 25 ans)\n\nNUMERO UNIQUE POUR SE DESINSCRIRE (48 HEURES
  AVANT L’ATELIER) / EXCUSER UNE ABSENCE JUSTIFIEE: 06.68.16.92.53\nflyer
 s Ryse - 2025 - 2026\n\nLe projet RYSE avec Le Partenariat\, Centre Gaia s
 e déroulera en plusieurs étapes.\n\nFormation sur la solidarité et le d
 éveloppement durable (4 jours) les 15 et 16 septembre\, les 10 et 15 octo
 bre 2025.\n\nHoraires: lundi 15/09: 10h - 17h et mardi 16/09: 09h- 16h\n\n
 A l'issue de cette formation\, tu pourras participer à une formation de G
 estion de Projet (4 jours) les 20\, 21\, 22\, 24 octobre 2025\, et\, par l
 a suite être accompagné (e)  dans la mise en place de ton micro projet 
 (d'octobre à décembre 2025)\n\nSi ton projet est sélectionné\, tu aura
 s la possibilité de le présenter en Transylvanie à Cristuru Secuiesc (R
 oumanie) pendant 7 jours (du 12 au 18 janvier 2026) et rencontrer des jeun
 es portugais\, roumains\, hongrois\, italiens\, espagnols et français. Le
 s billets d'avion et le logement\, on s'en occupe! \n\nTu pourras ajouter
  ces formations et cette belle expérience sur ton CV! \n\nAlors\, fonce!\
 n\n&nbsp\;\n\n
CATEGORIES:Atelier Marcq
LOCATION:Mission Locale Antenne de Marcq-en-Barœul\, 111 avenue Foch\, Mar
 cq-en-Barœul\, France
X-APPLE-STRUCTURED-LOCATION;VALUE=URI;X-ADDRESS=111 avenue Foch\, Marcq-en-
 Barœul\, France;X-APPLE-RADIUS=100;X-TITLE=Mission Locale Antenne de Marc
 q-en-Barœul:geo:0,0
END:VEVENT
BEGIN:VTIMEZONE
TZID:Europe/Paris
X-LIC-LOCATION:Europe/Paris
BEGIN:DAYLIGHT
DTSTART:20250330T030000
TZOFFSETFROM:+0100
TZOFFSETTO:+0200
TZNAME:CEST
END:DAYLIGHT
END:VTIMEZONE
END:VCALENDAR