BEGIN:VCALENDAR
VERSION:2.0
PRODID:-//wp-events-plugin.com//7.1.7//EN
TZID:Europe/Paris
X-WR-TIMEZONE:Europe/Paris
BEGIN:VEVENT
UID:117@emploi-mno.fr
DTSTART;TZID=Europe/Paris:20240924T140000
DTEND;TZID=Europe/Paris:20240924T173000
DTSTAMP:20240918T072704Z
URL:https://emploi-mno.fr/events/forum-adopte1job/
SUMMARY:Forum #adopte1job
DESCRIPTION:
ATTACH;FMTTYPE=image/jpeg:https://emploi-mno.fr/wp-content/uploads/2024/09
 /affiche-adope1job.png
CATEGORIES:Evénement
LOCATION:Hôtel de ville de Tourcoing\, 10 place Victor Hassebroucq\, Tourc
 oing\, France
X-APPLE-STRUCTURED-LOCATION;VALUE=URI;X-ADDRESS=10 place Victor Hassebroucq
 \, Tourcoing\, France;X-APPLE-RADIUS=100;X-TITLE=Hôtel de ville de Tourco
 ing:geo:0,0
END:VEVENT
BEGIN:VTIMEZONE
TZID:Europe/Paris
X-LIC-LOCATION:Europe/Paris
BEGIN:DAYLIGHT
DTSTART:20240331T030000
TZOFFSETFROM:+0100
TZOFFSETTO:+0200
TZNAME:CEST
END:DAYLIGHT
END:VTIMEZONE
END:VCALENDAR