BEGIN:VCALENDAR
VERSION:2.0
PRODID:-//wp-events-plugin.com//7.1.7//EN
TZID:Europe/Paris
X-WR-TIMEZONE:Europe/Paris
BEGIN:VEVENT
UID:528@emploi-mno.fr
DTSTART;TZID=Europe/Paris:20250329T090000
DTEND;TZID=Europe/Paris:20250329T130000
DTSTAMP:20250320T110417Z
URL:https://emploi-mno.fr/events/journee-portes-ouvertes-cma-hauts-de-fran
 ce/
SUMMARY:Journée Portes Ouvertes CMA Hauts-de-France
DESCRIPTION:Venez découvrir les métiers de l'artisanat !\nDécouvrez une 
 passion\, repartez avec une vocation !\nSamedi 29 mars (de 9h à 13h)\, le
 s établissements CMA Formation vous accueillent partout dans la région\,
  en entrée libre\, pour vous présenter un univers riche en savoir-faire 
 et en opportunités.\n\nAu programme : visites des plateaux techniques\, 
 échanges avec les enseignants et conseillers formation\, présentations d
 e l’apprentissage et informations sur les aides possibles (transports\, 
 hébergements\, financements).\n\nAvec près de 100 diplômes et titres\, 
 du CAP au Bac+3\, dans plus de 40 métiers\, trouvez la formation qui vous
  correspond.\n\nQue vous soyez étudiant\, demandeur d’emploi\, salarié
  ou chef d’entreprise\, que vous envisagiez une reconversion ou une form
 ation complémentaire\, ces parcours et accompagnements sont faits pour vo
 us !\n\nEntrée libre\, sans inscription préalable.\n\nPour plus d’info
 rmations\, contactez le 30 06 (appel gratuit) ou rendez-vous ici !
ATTACH;FMTTYPE=image/jpeg:https://emploi-mno.fr/wp-content/uploads/2025/03
 /JPO-2025-CMA-Affiche-generique-29-Mars.jpg
CATEGORIES:Evénement
END:VEVENT
BEGIN:VTIMEZONE
TZID:Europe/Paris
X-LIC-LOCATION:Europe/Paris
BEGIN:STANDARD
DTSTART:20241027T020000
TZOFFSETFROM:+0200
TZOFFSETTO:+0100
TZNAME:CET
END:STANDARD
END:VTIMEZONE
END:VCALENDAR