BEGIN:VCALENDAR
VERSION:2.0
PRODID:-//wp-events-plugin.com//7.1.7//EN
TZID:Europe/Paris
X-WR-TIMEZONE:Europe/Paris
BEGIN:VEVENT
UID:589@emploi-mno.fr
DTSTART;TZID=Europe/Paris:20250516T140000
DTEND;TZID=Europe/Paris:20250516T160000
DTSTAMP:20250430T072356Z
URL:https://emploi-mno.fr/events/ma-premiere-declaration-dimpots-2/
SUMMARY:Ma première déclaration d'impôts
DESCRIPTION:ATTENTION LES INSCRIPTIONS SONT RESERVEES AUX PERSONNES DU TERR
 ITOIRE MNO \n&nbsp\;\n\nTu dois faire ta première déclaration d'impôts
  et tu ne sais pas comment t'y prendre? Cet atelier est fait pour toi!\n\n
 &nbsp\;
CATEGORIES:Atelier Marcq
LOCATION:Mission Locale Antenne de Marcq-en-Barœul\, 111 avenue Foch\, Mar
 cq-en-Barœul\, France
X-APPLE-STRUCTURED-LOCATION;VALUE=URI;X-ADDRESS=111 avenue Foch\, Marcq-en-
 Barœul\, France;X-APPLE-RADIUS=100;X-TITLE=Mission Locale Antenne de Marc
 q-en-Barœul:geo:0,0
END:VEVENT
BEGIN:VTIMEZONE
TZID:Europe/Paris
X-LIC-LOCATION:Europe/Paris
BEGIN:DAYLIGHT
DTSTART:20250330T030000
TZOFFSETFROM:+0100
TZOFFSETTO:+0200
TZNAME:CEST
END:DAYLIGHT
END:VTIMEZONE
END:VCALENDAR