BEGIN:VCALENDAR
VERSION:2.0
PRODID:-//wp-events-plugin.com//7.1.7//EN
TZID:Europe/Paris
X-WR-TIMEZONE:Europe/Paris
BEGIN:VEVENT
UID:1304@emploi-mno.fr
DTSTART;TZID=Europe/Paris:20260505T140000
DTEND;TZID=Europe/Paris:20260505T160000
DTSTAMP:20260423T073142Z
URL:https://emploi-mno.fr/events/mno-crea-formation-pratique-pour-les-crea
 teurs-dentreprises/
SUMMARY:MNO CRÉA - Formation pratique pour les créateurs d'entreprises
DESCRIPTION:Animé par PARETO Learning\n\nInfos et inscription au 03.20.14.
 52.80.14
ATTACH;FMTTYPE=image/jpeg:https://emploi-mno.fr/wp-content/uploads/2026/04
 /PARETO-LEARNING-05.05.26.jpg
CATEGORIES:MNO Créa
LOCATION:Maison de l'Emploi Métropole Nord-Ouest\, 48 avenue du Parc\, Lam
 bersart\, 59130\, France
X-APPLE-STRUCTURED-LOCATION;VALUE=URI;X-ADDRESS=48 avenue du Parc\, Lambers
 art\, 59130\, France;X-APPLE-RADIUS=100;X-TITLE=Maison de l'Emploi Métrop
 ole Nord-Ouest:geo:0,0
END:VEVENT
BEGIN:VTIMEZONE
TZID:Europe/Paris
X-LIC-LOCATION:Europe/Paris
BEGIN:DAYLIGHT
DTSTART:20260329T030000
TZOFFSETFROM:+0100
TZOFFSETTO:+0200
TZNAME:CEST
END:DAYLIGHT
END:VTIMEZONE
END:VCALENDAR