BEGIN:VCALENDAR
VERSION:2.0
PRODID:-//wp-events-plugin.com//7.1.7//EN
TZID:Europe/Paris
X-WR-TIMEZONE:Europe/Paris
BEGIN:VEVENT
UID:1229@emploi-mno.fr
DTSTART;TZID=Europe/Paris:20260428T100000
DTEND;TZID=Europe/Paris:20260428T120000
DTSTAMP:20260407T093132Z
URL:https://emploi-mno.fr/events/mobilite-et-solidarite-internationale-jeu
 -parlons-environnement/
SUMMARY:MOBILITE et Solidarité INTERNATIONALE - Jeu - Parlons Environnemen
 t!
DESCRIPTION:ATTENTION LES INSCRIPTIONS SONT RESERVEES AUX PERSONNES DU TERR
 ITOIRE MNO (16 – 25ANS)\n\nNUMERO UNIQUE POUR SE DESINSCRIRE (48 HEURES 
 AVANT L’ATELIER) / EXCUSER UNE ABSENCE JUSTIFIEE: 06.68.16.92.53\n&nbsp\
 ;\n\nJade\, Ambassadrice de la Mobilité Internationale a réalisé une mi
 ssion de Service Civique International de 5 mois au Bénin dans une associ
 ation. Là bas\, ses missions étaient axées sur le respect de l'environn
 ement. Dans ce cadre\, de manière ludique\, Elle vous propose ce jeu - Pa
 rlons Environnement!\n🎯 Objectif de cet atelier:\n\n 	Comprendre les gr
 ands enjeux environnementaux mondiaux et les liens entre eux : climat\, bi
 odiversité\, eau\, énergie\, alimentation...\n 	Echanger concernant les 
 thématiques: climat\, biodiversité\, ressources naturelles\, justice env
 ironnementale\, coopération mondiale...\n\n
CATEGORIES:Atelier Marcq
LOCATION:Mission Locale Antenne de Marcq-en-Barœul\, 111 avenue Foch\, Mar
 cq-en-Barœul\, France
X-APPLE-STRUCTURED-LOCATION;VALUE=URI;X-ADDRESS=111 avenue Foch\, Marcq-en-
 Barœul\, France;X-APPLE-RADIUS=100;X-TITLE=Mission Locale Antenne de Marc
 q-en-Barœul:geo:0,0
END:VEVENT
BEGIN:VTIMEZONE
TZID:Europe/Paris
X-LIC-LOCATION:Europe/Paris
BEGIN:DAYLIGHT
DTSTART:20260329T030000
TZOFFSETFROM:+0100
TZOFFSETTO:+0200
TZNAME:CEST
END:DAYLIGHT
END:VTIMEZONE
END:VCALENDAR