BEGIN:VCALENDAR
VERSION:2.0
PRODID:-//wp-events-plugin.com//7.1.7//EN
TZID:Europe/Paris
X-WR-TIMEZONE:Europe/Paris
BEGIN:VEVENT
UID:1280@emploi-mno.fr
DTSTART;TZID=Europe/Paris:20260407T180000
DTEND;TZID=Europe/Paris:20260407T193000
DTSTAMP:20260401T121345Z
URL:https://emploi-mno.fr/events/mobilite-internationale-cap-sur-les-etats
 -unis/
SUMMARY:MOBILITE INTERNATIONALE : Cap sur les Etats Unis!
DESCRIPTION:\nLe CRIJ Hauts-de-France accueille une réunion d’informatio
 n animée par l'association PIE (Programmes Internationaux d'Echanges)\, a
 ssociation spécialisée dans les séjours éducatifs à l’international
 \, le mardi 7 avril à 18h\, dans ses locaux.\nCette rencontre s'adresse a
 ux lycéens et à leurs parents\, ainsi qu'aux jeunes post bac qui souhait
 ent découvrir les possibilités de départ aux Etats-Unis et ailleurs.\nU
 ne soirée pour s’informer et poser toutes vos questions\nLors de cette 
 réunion organisée dans les locaux du CRIJ Hauts-de-France à Lille\, l'a
 ssociation PIE  présentera les différenrts programmes dédiés aux jeun
 es souhaitant partir aux États-Unis ou dans d’autres pays.\nCette réun
 ion sera l’occasion :\n- d’en apprendre davantage sur les dispositifs
  existants\n- de mieux comprendre les démarches de départ\n- et d’éc
 hanger directement avec la représentante PIE et de poser toutes vos quest
 ions\nLa réunion sera enrichie par le témoignage d’une ancienne jeune 
 fille au pair originaire des Hauts-de-France qui viendra partagera son exp
 érience aux États-Unis et apportera des informations concrètes sur le p
 rogramme Au Pair (conditions d’accès\, démarches\, déroulement du sé
 jour et aspects culturels).\n\nTrois programmes seront détaillés\n\n 	Hi
 gh School Départ\n 	PIE Campus\n 	L’Amérique au Pair\n\nCes dispositif
 s s’adressent à différents profils : lycéens souhaitant effectuer une
  scolarité à l’étranger\, jeunes en terminale ou déjà titulaires du
  bac\, étudiants souhaitant enrichir leur parcours ou vivre une expérien
 ce internationale  Les séjours peuvent prendre différentes formes : tri
 mestre\, semestre\, année scolaire\, année de césure ou encore expérie
 nce professionnelle.\nLes programmes proposés offrent :\n- un encadremen
 t avant\, pendant et après le séjour\n- un suivi sur place dans le pays
  d’accueil\n- des établissements partenaires reconnus\n- une immersio
 n complète dans la langue et la culture\nDes solutions accessibles\nDes d
 ispositifs de financement existent selon les programmes :\n- bourses d’
 études pour les participants de PIE Campus\n- aides financières possibl
 es pour le programme au pair\nInformations pratiques\nDate : mardi 7 avri
 l 2026Horaire : 18h - 19h30Lieu : CRIJ Hauts-de-France\n2 rue Edouard De
 lesalle\, Lille\nInscription obligatoire :https://forms.gle/NFe9Mf5FDEWSnU
 uQ9
LOCATION:CRIJ\, 2 rue Edouard Delesalle\, Lille\, 59000\, France
X-APPLE-STRUCTURED-LOCATION;VALUE=URI;X-ADDRESS=2 rue Edouard Delesalle\, L
 ille\, 59000\, France;X-APPLE-RADIUS=100;X-TITLE=CRIJ:geo:0,0
END:VEVENT
BEGIN:VTIMEZONE
TZID:Europe/Paris
X-LIC-LOCATION:Europe/Paris
BEGIN:DAYLIGHT
DTSTART:20260329T030000
TZOFFSETFROM:+0100
TZOFFSETTO:+0200
TZNAME:CEST
END:DAYLIGHT
END:VTIMEZONE
END:VCALENDAR