BEGIN:VCALENDAR
VERSION:2.0
PRODID:-//wp-events-plugin.com//7.1.7//EN
TZID:Europe/Paris
X-WR-TIMEZONE:Europe/Paris
BEGIN:VEVENT
UID:952@emploi-mno.fr
DTSTART;TZID=Europe/Paris:20260911T093000
DTEND;TZID=Europe/Paris:20260911T120000
DTSTAMP:20251119T143144Z
URL:https://emploi-mno.fr/events/mobilite-internationale-information-sensi
 bilisation-10/
SUMMARY:Mobilité Internationale: Information\, Sensibilisation...
DESCRIPTION:ATTENTION LES INSCRIPTIONS SONT RESERVEES AUX PERSONNES DU TERR
 ITOIRE MNO (16 – 25 ans)\n\nNUMERO UNIQUE POUR SE DESINSCRIRE (48 HEURES
  AVANT L’ATELIER) / EXCUSER UNE ABSENCE JUSTIFIEE: 06.68.16.92.53\n&nbsp
 \;\n\nEnvie de vivre une expérience à l'Etranger (stage\, volontariat\, 
 expatriation...)?\n\nViens t'informer sur les dispositifs de mobilité int
 ernationale existants\, ainsi que sur nos offres de missions!\n\nA bientô
 t!\n\n&nbsp\;\n\n
CATEGORIES:Atelier Lambersart
LOCATION:Mission Locale Métropole Nord-Ouest\, 48 avenue du Parc\, Lambers
 art\, 59130\, France
X-APPLE-STRUCTURED-LOCATION;VALUE=URI;X-ADDRESS=48 avenue du Parc\, Lambers
 art\, 59130\, France;X-APPLE-RADIUS=100;X-TITLE=Mission Locale Métropole 
 Nord-Ouest:geo:0,0
END:VEVENT
BEGIN:VTIMEZONE
TZID:Europe/Paris
X-LIC-LOCATION:Europe/Paris
BEGIN:DAYLIGHT
DTSTART:20260329T030000
TZOFFSETFROM:+0100
TZOFFSETTO:+0200
TZNAME:CEST
END:DAYLIGHT
END:VTIMEZONE
END:VCALENDAR