BEGIN:VCALENDAR
VERSION:2.0
PRODID:-//wp-events-plugin.com//7.1.7//EN
TZID:Europe/Paris
X-WR-TIMEZONE:Europe/Paris
BEGIN:VEVENT
UID:566@emploi-mno.fr
DTSTART;TZID=Europe/Paris:20250507T100000
DTEND;TZID=Europe/Paris:20250507T120000
DTSTAMP:20250506T115434Z
URL:https://emploi-mno.fr/events/prerecrutement-cap-employe-polyvalent-bur
 ger-king/
SUMMARY:ANNULE Burger King:  CAP Employé Polyvalent Commerce et Distributi
 on
DESCRIPTION:ATTENTION LES INSCRIPTIONS SONT RESERVEES AUX PERSONNES DU TERR
 ITOIRE MNO (16 – 25 ans)\n&nbsp\;\n\n&nbsp\;\n\nPrérecrutement  pour p
 réparer un CAP Employé Polyvalent Commerce et Distribution avec le centr
 e de formation LAHO et Burger King!\n\n&nbsp\;\n\nLes prérequis sont les 
 suivants :\n\n 	Être éligible à l’apprentissage (avoir entre 16 et 2
 9 ans).\n 	Être motivé.\n\n&nbsp\;\n\nAvantages :\n\n 	Formation Rémun
 éré.\n 	Salaire (en fonction de la grille d’apprentissage).\n 	CAP val
 idé en 1 an.\n 	Postes à pourvoir.\n\n&nbsp\;\n\nPrends ton CV et viens 
 candidater!
CATEGORIES:Atelier Extérieur
LOCATION:Burger King\, 429 av Mar De Lattre de Tassigny\, Saint-André-lez-
 Lille\, 59350\, France
X-APPLE-STRUCTURED-LOCATION;VALUE=URI;X-ADDRESS=429 av Mar De Lattre de Tas
 signy\, Saint-André-lez-Lille\, 59350\, France;X-APPLE-RADIUS=100;X-TITLE
 =Burger King:geo:0,0
END:VEVENT
BEGIN:VTIMEZONE
TZID:Europe/Paris
X-LIC-LOCATION:Europe/Paris
BEGIN:DAYLIGHT
DTSTART:20250330T030000
TZOFFSETFROM:+0100
TZOFFSETTO:+0200
TZNAME:CEST
END:DAYLIGHT
END:VTIMEZONE
END:VCALENDAR