BEGIN:VCALENDAR
VERSION:2.0
PRODID:-//wp-events-plugin.com//7.1.7//EN
TZID:Europe/Paris
X-WR-TIMEZONE:Europe/Paris
BEGIN:VEVENT
UID:1282@emploi-mno.fr
DTSTART;TZID=Europe/Paris:20260415T140000
DTEND;TZID=Europe/Paris:20260415T163000
DTSTAMP:20260401T131316Z
URL:https://emploi-mno.fr/events/presentation-du-festival-latitudes-contem
 poraines-2/
SUMMARY:CULTURE : Présentation du festival "Latitudes contemporaines"
DESCRIPTION:ATTENTION LES INSCRIPTIONS SONT RESERVEES AUX PERSONNES DU TERR
 ITOIRE MNO\n&nbsp\;\n\nTu souhaites en savoir plus sur le festival LATITUD
 ES CONTEMPORAINES\, alors inscris toi!\n\n&nbsp\;\n\nhttps://www.youtube.c
 om/watch?v=6HR3tzNdHyo\n\nLors de cet atelier\, vous assisterez à:\n\n 	U
 ne présentation du festival\,\n 	Un focus sur quelques spectacles program
 més\,\n 	invitation à la présentation complète\,\n 	Présentation des 
 missions bénévolat au sein du festival.\n 	Choix d'un spectacle que auqu
 el nous aurons la chance d'assister.\n\n&nbsp\;\n\n&nbsp\;
CATEGORIES:Atelier Extérieur
LOCATION:Maison des associations\, 27 rue Jean Bart\, LILLE\, 59000\, Franc
 e
X-APPLE-STRUCTURED-LOCATION;VALUE=URI;X-ADDRESS=27 rue Jean Bart\, LILLE\, 
 59000\, France;X-APPLE-RADIUS=100;X-TITLE=Maison des associations:geo:0,0
END:VEVENT
BEGIN:VTIMEZONE
TZID:Europe/Paris
X-LIC-LOCATION:Europe/Paris
BEGIN:DAYLIGHT
DTSTART:20260329T030000
TZOFFSETFROM:+0100
TZOFFSETTO:+0200
TZNAME:CEST
END:DAYLIGHT
END:VTIMEZONE
END:VCALENDAR