BEGIN:VCALENDAR
VERSION:2.0
PRODID:-//wp-events-plugin.com//7.1.7//EN
TZID:Europe/Paris
X-WR-TIMEZONE:Europe/Paris
BEGIN:VEVENT
UID:136@emploi-mno.fr
DTSTART;TZID=Europe/Paris:20241016T093000
DTEND;TZID=Europe/Paris:20241016T123000
DTSTAMP:20241015T101904Z
URL:https://emploi-mno.fr/events/recrutement-conducteurstrices-autobus-car
 s-de-tourisme/
SUMMARY:Recrutement Conducteurs(trices) Autobus / Cars de tourisme
DESCRIPTION:ATTENTION LES INSCRIPTIONS SONT RÉSERVÉES AUX PERSONNES DU TE
 RRITOIRE MNO (16 – 25 ANS)\n&nbsp\;\nVenez participer à une matinée de
  recrutement pour vous former au métier de conducteur (trice) de transpor
 t en commun (Autobus\, Car de tourisme).\n\n\nUne compagnie de transports 
 de voyageurs et le centre de formation ABSKILL s'unissent pour vous propos
 er un CDD de 12 mois après une formation de 62 jours durant lequel vous p
 asserez votre Titre Professionnel Conducteur / Conductrice du Transport en
  Commun sur Route. L’entreprise est ouverte pour intégrer des candidats
  en alternance.\n\nProfil recherché : \n\n 	21 ans minimum\n 	Titulaire 
 du permis B\n 	Travail le week-end\n\nvoici le programme de La matinée  
 :\n\n 	Présentation de l’entreprise\, du métier par le Directeur\n 	Pr
 ésentation du parcours de formation par ABSKILL et du Titre Professionnel
  Conducteur / Conductrice du Transport en Commun sur Route (équivalent CA
 P).\n 	Visite de l’entreprise\, des ateliers\n 	Entretien individuel pou
 r les candidats intéressés\n\n&nbsp\;\n\nAprès inscription\, vous serez
  contactés pour plus d'informations.
CATEGORIES:Atelier Extérieur
END:VEVENT
BEGIN:VTIMEZONE
TZID:Europe/Paris
X-LIC-LOCATION:Europe/Paris
BEGIN:DAYLIGHT
DTSTART:20240331T030000
TZOFFSETFROM:+0100
TZOFFSETTO:+0200
TZNAME:CEST
END:DAYLIGHT
END:VTIMEZONE
END:VCALENDAR