BEGIN:VCALENDAR
VERSION:2.0
PRODID:-//wp-events-plugin.com//7.1.7//EN
TZID:Europe/Paris
X-WR-TIMEZONE:Europe/Paris
BEGIN:VEVENT
UID:773@emploi-mno.fr
DTSTART;TZID=Europe/Paris:20250926T100000
DTEND;TZID=Europe/Paris:20250926T120000
DTSTAMP:20250922T134511Z
URL:https://emploi-mno.fr/events/rencontres-intergenerationnelles/
SUMMARY:COMPLET Rencontres Intergénérationnelles
DESCRIPTION:ATTENTION LES INSCRIPTIONS SONT RESERVEES AUX PERSONNES DU TERR
 ITOIRE MNO (16 – 25 ans)\n\nNUMERO UNIQUE POUR SE DESINSCRIRE (48 HEURES
  AVANT L’ATELIER) / EXCUSER UNE ABSENCE JUSTIFIEE: 06.68.16.92.53\nVenez
  à la rencontre des résidents de l'EHPAD Paul Cordonnier pour échanger 
 autour de jeux de société.\n\nVivez des moments de partage riches en com
 pagnie de nos aînés !
CATEGORIES:Atelier Extérieur
LOCATION:Résidence Paul Cordonnier\, 4 rue Maurice Genevoix\, Marcq-en-Bar
 œul\, 59\, 59700\, Nord\, France
X-APPLE-STRUCTURED-LOCATION;VALUE=URI;X-ADDRESS=4 rue Maurice Genevoix\, Ma
 rcq-en-Barœul\, 59\, 59700\, Nord\, France;X-APPLE-RADIUS=100;X-TITLE=Ré
 sidence Paul Cordonnier:geo:0,0
END:VEVENT
BEGIN:VTIMEZONE
TZID:Europe/Paris
X-LIC-LOCATION:Europe/Paris
BEGIN:DAYLIGHT
DTSTART:20250330T030000
TZOFFSETFROM:+0100
TZOFFSETTO:+0200
TZNAME:CEST
END:DAYLIGHT
END:VTIMEZONE
END:VCALENDAR