BEGIN:VCALENDAR
VERSION:2.0
PRODID:-//wp-events-plugin.com//7.1.7//EN
TZID:Europe/Paris
X-WR-TIMEZONE:Europe/Paris
BEGIN:VEVENT
UID:521@emploi-mno.fr
DTSTART;TZID=Europe/Paris:20250326T091500
DTEND;TZID=Europe/Paris:20250326T120000
DTSTAMP:20250317T154354Z
URL:https://emploi-mno.fr/events/reunion-de-presentation-ecole-etre-ecole-
 de-la-transition-ecologique/
SUMMARY:Réunion de présentation école ETRE (Ecole de la Transition Ecolo
 gique)
DESCRIPTION:Parcours de préqualification :\nDécouvrez des secteurs varié
 s et porteurs d’avenir !\n🌱 Alimentation durable (restauration et ci
 e.)\n🔧 Réparation (électroménager\, électronique)\n♻️ Recyclag
 e et BTP durable (menuiserie\, énergies...)\n🌿 Aménagement paysager
  et agriculture urbaine\n✋ Une approche 100 % pratique : ateliers\, vis
 ites\, rencontres avec des professionnels.\n🎓 Un parcours engageant : 
 650h de formation\, 5 semaines de stage\, rémunération et statut de sta
 giaire de la formation professionnelle.\n👀 Pour qui ?\n   📌 Pe
 rsonnes âgées entre 18 et 29 ans\, motivés par les métiers manuels et 
 engagés\, curieux de découvrir des opportunités concrètes d’emploi. 
 Pas besoin d’avoir un projet défini dans ces secteurs\, juste l'envie d
 'expérimenter !\nRéunion de présentation le 26 mars à 9h30 à Lille Av
 enirs (5 Boulevard du Maréchal Vaillant Lille).
CATEGORIES:Atelier Extérieur
LOCATION:Lille Avenirs\, 5 boulevard du Maréchal Vaillant \, Lille\, 59\, 
 59800\, Nord\, France
X-APPLE-STRUCTURED-LOCATION;VALUE=URI;X-ADDRESS=5 boulevard du Maréchal Va
 illant \, Lille\, 59\, 59800\, Nord\, France;X-APPLE-RADIUS=100;X-TITLE=Li
 lle Avenirs:geo:0,0
END:VEVENT
BEGIN:VTIMEZONE
TZID:Europe/Paris
X-LIC-LOCATION:Europe/Paris
BEGIN:STANDARD
DTSTART:20241027T020000
TZOFFSETFROM:+0200
TZOFFSETTO:+0100
TZNAME:CET
END:STANDARD
END:VTIMEZONE
END:VCALENDAR