BEGIN:VCALENDAR
VERSION:2.0
PRODID:-//wp-events-plugin.com//7.1.7//EN
TZID:Europe/Paris
X-WR-TIMEZONE:Europe/Paris
BEGIN:VEVENT
UID:163@emploi-mno.fr
DTSTART;TZID=Europe/Paris;VALUE=DATE:20241119
DTEND;TZID=Europe/Paris;VALUE=DATE:20241120
DTSTAMP:20241014T124734Z
URL:https://emploi-mno.fr/events/seeph-2024-handihautslympics/
SUMMARY:SEEPH 2024 : Handi’Hauts’Lympics
DESCRIPTION:Challenge handisport\, jobs dating et remise de prix.\n\n&nbsp\
 ;\n\nÉvénement organisé dans le cadre de la Semaine Européenne pour l'
 Emploi des Personnes Handicapées (SEEPH).\nPlus d’informations &amp\; i
 nscription au 03 20 14 52 80.
ATTACH;FMTTYPE=image/jpeg:https://emploi-mno.fr/wp-content/uploads/2024/08
 /SEEPH2024.jpg
CATEGORIES:Evénement
END:VEVENT
BEGIN:VTIMEZONE
TZID:Europe/Paris
X-LIC-LOCATION:Europe/Paris
BEGIN:STANDARD
DTSTART:20241027T020000
TZOFFSETFROM:+0200
TZOFFSETTO:+0100
TZNAME:CET
END:STANDARD
END:VTIMEZONE
END:VCALENDAR