BEGIN:VCALENDAR
VERSION:2.0
PRODID:-//wp-events-plugin.com//7.1.7//EN
TZID:Europe/Paris
X-WR-TIMEZONE:Europe/Paris
BEGIN:VEVENT
UID:164@emploi-mno.fr
DTSTART;TZID=Europe/Paris:20241120T140000
DTEND;TZID=Europe/Paris:20241120T140000
DTSTAMP:20241030T161901Z
URL:https://emploi-mno.fr/events/seeph-2024-presentation-du-groupe-malecot
 -papillons-blancs-de-lille/
SUMMARY:SEEPH 2024 : Présentation du Groupe Malécot - Papillons Blancs de
  Lille
DESCRIPTION:Visite d’un établissement et services d’aide par le travai
 l (ESAT).\n\nÉvénement organisé dans le cadre de la Semaine Européenne
  pour l'Emploi des Personnes Handicapées (SEEPH).\nPlus d’informations 
 &amp\; inscription au 03 20 14 52 80.
ATTACH;FMTTYPE=image/jpeg:https://emploi-mno.fr/wp-content/uploads/2024/08
 /SEEPH2024.jpg
CATEGORIES:Evénement
LOCATION:Groupe Malécot - Papillons Blancs de Lille\, 6 rue des Châteaux\
 , Marcq-en-Baroeul\, France
X-APPLE-STRUCTURED-LOCATION;VALUE=URI;X-ADDRESS=6 rue des Châteaux\, Marcq
 -en-Baroeul\, France;X-APPLE-RADIUS=100;X-TITLE=Groupe Malécot - Papillon
 s Blancs de Lille:geo:0,0
END:VEVENT
BEGIN:VTIMEZONE
TZID:Europe/Paris
X-LIC-LOCATION:Europe/Paris
BEGIN:STANDARD
DTSTART:20241027T020000
TZOFFSETFROM:+0200
TZOFFSETTO:+0100
TZNAME:CET
END:STANDARD
END:VTIMEZONE
END:VCALENDAR