BEGIN:VCALENDAR
VERSION:2.0
PRODID:-//wp-events-plugin.com//7.1.7//EN
TZID:Europe/Paris
X-WR-TIMEZONE:Europe/Paris
BEGIN:VEVENT
UID:1184@emploi-mno.fr
DTSTART;TZID=Europe/Paris:20260325T094500
DTEND;TZID=Europe/Paris:20260325T113000
DTSTAMP:20260324T093636Z
URL:https://emploi-mno.fr/events/sport-initiation-decouverte-de-la-pratiqu
 e-du-golf-2/
SUMMARY:SPORT : Initiation découverte de la pratique du Golf
DESCRIPTION:ATTENTION LES INSCRIPTIONS SONT RESERVEES AUX PERSONNES DU TERR
 ITOIRE MNO \n\nNUMERO UNIQUE POUR SE DESINSCRIRE (48 HEURES AVANT L’ATE
 LIER) / EXCUSER UNE ABSENCE JUSTIFIEE: 06.68.16.92.53\n&nbsp\;\n\nInitiati
 on découverte de la pratique du golf d’une heure (encadrée\, avec prê
 t du matériel):\n\n 	45 minutes sur le practice\n 	45 minutes au putting 
 (sur le green)\n\n&nbsp\;
CATEGORIES:Atelier Extérieur
LOCATION:Inesis Golf Park\, 202 chemin poivré\, Marcq-en-Barœul\, 59700\,
  France
X-APPLE-STRUCTURED-LOCATION;VALUE=URI;X-ADDRESS=202 chemin poivré\, Marcq-
 en-Barœul\, 59700\, France;X-APPLE-RADIUS=100;X-TITLE=Inesis Golf Park:ge
 o:0,0
END:VEVENT
BEGIN:VTIMEZONE
TZID:Europe/Paris
X-LIC-LOCATION:Europe/Paris
BEGIN:STANDARD
DTSTART:20251026T020000
TZOFFSETFROM:+0200
TZOFFSETTO:+0100
TZNAME:CET
END:STANDARD
END:VTIMEZONE
END:VCALENDAR