BEGIN:VCALENDAR
VERSION:2.0
PRODID:-//wp-events-plugin.com//7.1.7//EN
TZID:Europe/Paris
X-WR-TIMEZONE:Europe/Paris
BEGIN:VEVENT
UID:57@emploi-mno.fr
DTSTART;TZID=Europe/Paris:20241127T093000
DTEND;TZID=Europe/Paris:20241127T120000
DTSTAMP:20241119T091520Z
URL:https://emploi-mno.fr/events/tests-de-personnalite-3/
SUMMARY:COMPLET Tests de personnalité
DESCRIPTION:Pourquoi faire des tests de personnalité?\n\n\n 	Te découvrir
 \, Mieux te connaître...\n 	Identifier tes points forts et tes points fai
 bles.\n 	Définir un profil personnel et professionnel.\n 	Obtenir des ind
 ications sur ta personnalité\, tes motivations\, tes intérêts...\n\n&nb
 sp\;\n\n\n\nATTENTION LES INSCRIPTIONS SONT RESERVEES AUX PERSONNES DU TER
 RITOIRE MNO (16 - 25 ans)
CATEGORIES:Atelier Marcq
LOCATION:Mission Locale Antenne de Marcq-en-Barœul\, 111 avenue Foch\, Mar
 cq-en-Barœul\, France
X-APPLE-STRUCTURED-LOCATION;VALUE=URI;X-ADDRESS=111 avenue Foch\, Marcq-en-
 Barœul\, France;X-APPLE-RADIUS=100;X-TITLE=Mission Locale Antenne de Marc
 q-en-Barœul:geo:0,0
END:VEVENT
BEGIN:VTIMEZONE
TZID:Europe/Paris
X-LIC-LOCATION:Europe/Paris
BEGIN:STANDARD
DTSTART:20241027T020000
TZOFFSETFROM:+0200
TZOFFSETTO:+0100
TZNAME:CET
END:STANDARD
END:VTIMEZONE
END:VCALENDAR