BEGIN:VCALENDAR
VERSION:2.0
PRODID:-//wp-events-plugin.com//7.1.7//EN
TZID:Europe/Paris
X-WR-TIMEZONE:Europe/Paris
BEGIN:VEVENT
UID:80@emploi-mno.fr
DTSTART;TZID=Europe/Paris:20240924T140000
DTEND;TZID=Europe/Paris:20240924T160000
DTSTAMP:20240923T095450Z
URL:https://emploi-mno.fr/events/trouve-ta-fibre-decouverte-du-multimedia-
 et-des-outils-numeriques/
SUMMARY:ANNULATION Trouve ta Fibre: Découverte du multimédia et des outil
 s numériques et Intelligence Artificielle
DESCRIPTION:ATTENTION LES INSCRIPTIONS SONT RESERVEES AUX PERSONNES DU TERR
 ITOIRE MNO (16 – 25 ans)\n\n&nbsp\;\n\n&nbsp\;\n\nLa fondation Boulanger
  met en place une série de 4 ateliers:\n\n 	24/09: Découverte du multim
 édia et des outils numériques et Intelligence Artificielle\n 	8/10: Déc
 ouverte des métiers du magasin (possibilité de stages)\n 	22/10: Les Sof
 t Skills pour se préparer au monde professionnel\n 	5/11: Circularité et
  Réparation de matériel\n\nEn vous inscrivant à cet atelier\, vous sere
 z inscrit(e)s automatiquement aux 3 ateliers suivants.\n\n&nbsp\;\n\n
CATEGORIES:Atelier Extérieur
LOCATION:Boulanger Englos\, rue des champs\, Sequedin\, 59320\, France
X-APPLE-STRUCTURED-LOCATION;VALUE=URI;X-ADDRESS=rue des champs\, Sequedin\,
  59320\, France;X-APPLE-RADIUS=100;X-TITLE=Boulanger Englos:geo:0,0
END:VEVENT
BEGIN:VTIMEZONE
TZID:Europe/Paris
X-LIC-LOCATION:Europe/Paris
BEGIN:DAYLIGHT
DTSTART:20240331T030000
TZOFFSETFROM:+0100
TZOFFSETTO:+0200
TZNAME:CEST
END:DAYLIGHT
END:VTIMEZONE
END:VCALENDAR