BEGIN:VCALENDAR
VERSION:2.0
PRODID:-//wp-events-plugin.com//7.1.7//EN
TZID:Europe/Paris
X-WR-TIMEZONE:Europe/Paris
BEGIN:VEVENT
UID:49@emploi-mno.fr
DTSTART;TZID=Europe/Paris:20241015T140000
DTEND;TZID=Europe/Paris:20241015T163000
DTSTAMP:20241014T133442Z
URL:https://emploi-mno.fr/events/visite-de-laeronef-suivi-dun-echange-avec
 -le-duo-lillois-nur/
SUMMARY:Visite de l’Aeronef\, suivi  d'un échange avec le duo lillois N
 ÛR
DESCRIPTION:ATTENTION LES INSCRIPTIONS SONT RESERVEES AUX PERSONNES DU TERR
 ITOIRE MNO (Prévoir un sandwich pour se restaurer le temps du concert)\n&
 nbsp\;\n\nDécouvre l'envers du décor!\n\nViens  découvrir l’histoire
  du lieu\, comment fonctionne une salle de concert\, quels sont les métie
 rs des musiques actuelles\, à quoi ressemblent les coulisses\, comment so
 nt décorées nos loges\, etc.\n\nDans la foulée\, un temps d'échange es
 t prévu avec le groupe lillois "NUR" (Pop Electro)\, actuellement en rés
 idence à l'Aéronef.\n\n&nbsp\;\n\nhttps://www.youtube.com/watch?v=PiP8ya
 uwvlE\n\n&nbsp\;\n\n&nbsp\;
CATEGORIES:Atelier Extérieur
LOCATION:Aéronef\, 168 avenue Willy Brandt\, Lille\, 59000\, France
X-APPLE-STRUCTURED-LOCATION;VALUE=URI;X-ADDRESS=168 avenue Willy Brandt\, L
 ille\, 59000\, France;X-APPLE-RADIUS=100;X-TITLE=Aéronef:geo:0,0
END:VEVENT
BEGIN:VTIMEZONE
TZID:Europe/Paris
X-LIC-LOCATION:Europe/Paris
BEGIN:DAYLIGHT
DTSTART:20240331T030000
TZOFFSETFROM:+0100
TZOFFSETTO:+0200
TZNAME:CEST
END:DAYLIGHT
END:VTIMEZONE
END:VCALENDAR