BEGIN:VCALENDAR
VERSION:2.0
PRODID:-//wp-events-plugin.com//7.1.7//EN
TZID:Europe/Paris
X-WR-TIMEZONE:Europe/Paris
BEGIN:VEVENT
UID:151@emploi-mno.fr
DTSTART;TZID=Europe/Paris:20241017T150000
DTEND;TZID=Europe/Paris:20241017T170000
DTSTAMP:20241002T094254Z
URL:https://emploi-mno.fr/events/visite-du-flow-concert-zero-degre/
SUMMARY:Visite du FLOW + concert Zéro degrè
DESCRIPTION:ATTENTION LES INSCRIPTIONS SONT RÉSERVÉES AUX PERSONNES DU TE
 RRITOIRE MNO (16 – 25 ANS)\n&nbsp\;\n\nVisite du FLOW\n\nConcert de fin 
 de résidence du rappeur lillois " Zéro Degré"\n\nhttps://www.youtube.co
 m/watch?v=azeNktGANBU
CATEGORIES:Atelier Extérieur
LOCATION:FLOW - Centre Eurorégional des Cultures Urbaines\, 1 rue de Fonte
 noy\, Lille\, 59000\, France
X-APPLE-STRUCTURED-LOCATION;VALUE=URI;X-ADDRESS=1 rue de Fontenoy\, Lille\,
  59000\, France;X-APPLE-RADIUS=100;X-TITLE=FLOW - Centre Eurorégional des
  Cultures Urbaines:geo:0,0
END:VEVENT
BEGIN:VTIMEZONE
TZID:Europe/Paris
X-LIC-LOCATION:Europe/Paris
BEGIN:DAYLIGHT
DTSTART:20240331T030000
TZOFFSETFROM:+0100
TZOFFSETTO:+0200
TZNAME:CEST
END:DAYLIGHT
END:VTIMEZONE
END:VCALENDAR